BEGIN:VCALENDAR
VERSION:2.0
PRODID:-//Library Market//iCal Export//EN
BEGIN:VEVENT
SUMMARY:Dog Days of Summer Storytime
UID:12021
DTSTAMP:20260423T032200Z
DTSTART:20250714T230000Z
DTEND:20250714T234500Z
LOCATION:Byron Public Library District, 100 S Washington St., Byron, IL 61
 010, United States
ROOM: Activity Room &amp; Meeting Room
DESCRIPTION:Take your stuffed dog through our stuffed pet care course, com
 plete with agility, vet &amp; grooming stations. Plus a dog themed search 
 and find, art and activity stations! Each child should bring a small stuf
 fed dog from home to this event. Please contact Julie if your child does n
 ot have a stuffed dog to bring.
URL:https://www.byronlibrary.org/event/dog-days-summer-storytime-12021
END:VEVENT
END:VCALENDAR
