BEGIN:VCALENDAR
VERSION:2.0
PRODID:-//Library Market//iCal Export//EN
BEGIN:VEVENT
SUMMARY:Outdoor Fun Day @ Blackhawk Meadow Park
UID:12022
DTSTAMP:20260423T033600Z
DTSTART:20250721T143000Z
DTEND:20250721T160000Z
LOCATION:Blackhawk Meadow Park, 2920 E. Mill Rd, Byron, IL 61010, United S
 tates
ROOM: Blackhawk Meadow Park
DESCRIPTION:Enjoy art, bubbles, play and building stations at Blackhawk Me
 adow Park. Running late-no worries. This is an activity station based prog
 ram, you can start anytime!
URL:https://www.byronlibrary.org/event/outdoor-fun-day-blackhawk-meadow-pa
 rk-12022
END:VEVENT
END:VCALENDAR
