BEGIN:VCALENDAR
VERSION:2.0
PRODID:-//Library Market//iCal Export//EN
BEGIN:VEVENT
SUMMARY:More Slime Time-Thursday
UID:12024
DTSTAMP:20260423T033200Z
DTSTART:20250710T160000Z
DTEND:20250710T170000Z
LOCATION:Byron Public Library District, 100 S Washington St., Byron, IL 61
 010, United States
ROOM: Activity Room
DESCRIPTION:Make slime! For youth entering 1st-5th grade in fall 2025. You
 th attend without an adult. If your child needs extra support, please cont
 act Julie.
URL:https://www.byronlibrary.org/event/more-slime-time-thursday-12024
END:VEVENT
END:VCALENDAR
