BEGIN:VCALENDAR
VERSION:2.0
PRODID:-//Library Market//iCal Export//EN
BEGIN:VEVENT
SUMMARY:Water Bead Slide-Thursday
UID:12026
DTSTAMP:20260423T033400Z
DTSTART:20250717T160000Z
DTEND:20250717T170000Z
LOCATION:Byron Public Library District, 100 S Washington St., Byron, IL 61
 010, United States
ROOM: Activity Room
DESCRIPTION:Indoor water play meets engineering in this class for grade sc
 hoolers! Construct a slide for water beads. For youth entering 1st-5th gra
 de in fall 2025. Youth attend without an adult. If your child needs extra 
 support, please contact Julie.
URL:https://www.byronlibrary.org/event/water-bead-slide-thursday-12026
END:VEVENT
END:VCALENDAR
