BEGIN:VCALENDAR
VERSION:2.0
PRODID:-//Library Market//iCal Export//EN
BEGIN:VEVENT
SUMMARY:Kinetic Sand Creators-Wednesday
UID:12027
DTSTAMP:20260423T033100Z
DTSTART:20250723T160000Z
DTEND:20250723T170000Z
LOCATION:Byron Public Library District, 100 S Washington St., Byron, IL 61
 010, United States
ROOM: Activity Room
DESCRIPTION:Make your own kinetic sand! For youth entering 1st-5th grade i
 n fall 2025. Youth attend without an adult. If your child needs extra supp
 ort, please contact Julie.
URL:https://www.byronlibrary.org/event/kinetic-sand-creators-wednesday-120
 27
END:VEVENT
END:VCALENDAR
