BEGIN:VCALENDAR
VERSION:2.0
PRODID:-//Library Market//iCal Export//EN
BEGIN:VEVENT
SUMMARY:Science Explorers Storytime-Wednesday
UID:12029
DTSTAMP:20260423T033100Z
DTSTART:20250709T143000Z
DTEND:20250709T153000Z
LOCATION:Byron Public Library District, 100 S Washington St., Byron, IL 61
 010, United States
ROOM: Activity Room
DESCRIPTION:Stories, songs and movement, followed by science activities an
 d playtime. For ages 3 years-entering K. Children attend without an adult.
  If your child needs extra support, please contact Julie.
URL:https://www.byronlibrary.org/event/science-explorers-storytime-wednesd
 ay-12029
END:VEVENT
END:VCALENDAR
