BEGIN:VCALENDAR
VERSION:2.0
PRODID:-//Library Market//iCal Export//EN
BEGIN:VEVENT
SUMMARY:Playdough Playdate Storytime-Wednesday
UID:12033
DTSTAMP:20260423T033200Z
DTSTART:20250723T143000Z
DTEND:20250723T153000Z
LOCATION:Byron Public Library District, 100 S Washington St., Byron, IL 61
 010, United States
ROOM: Activity Room
DESCRIPTION:Stories, songs and movement, followed by playdough and toytime
 . For ages 3 years-entering K. Children attend without an adult. If your c
 hild needs extra support, please contact Julie.
URL:https://www.byronlibrary.org/event/playdough-playdate-storytime-wednes
 day-12033
END:VEVENT
END:VCALENDAR
