BEGIN:VCALENDAR
VERSION:2.0
PRODID:-//Library Market//iCal Export//EN
BEGIN:VEVENT
SUMMARY:Shark Art Kit
UID:12035
DTSTAMP:20260423T033200Z
DTSTART:20250729T140000Z
DTEND:20250730T010000Z
LOCATION:Byron Public Library District, 100 S Washington St., Byron, IL 61
 010, United States
ROOM: Shark Art Kit
DESCRIPTION:Create some shark art! For youth entering 1st-5th grade in fal
 l 2025. Pick up begins: Tuesday, July 29.
URL:https://www.byronlibrary.org/event/shark-art-kit-12035
END:VEVENT
END:VCALENDAR
