BEGIN:VCALENDAR
VERSION:2.0
PRODID:-//Library Market//iCal Export//EN
BEGIN:VEVENT
SUMMARY:Toddler Art Party @ Home Kit
UID:12036
DTSTAMP:20260423T033100Z
DTSTART:20250729T140000Z
DTEND:20250730T010000Z
LOCATION:Byron Public Library District, 100 S Washington St., Byron, IL 61
 010, United States
ROOM: Toddler Art Party @ Home Kit
DESCRIPTION:Art explorations for toddlers! This kit is for ages 18-35 mont
 hs. Pick up begins on Tuesday, July 29.
URL:https://www.byronlibrary.org/event/toddler-art-party-home-kit-12036
END:VEVENT
END:VCALENDAR
