BEGIN:VCALENDAR
VERSION:2.0
PRODID:-//Library Market//iCal Export//EN
BEGIN:VEVENT
SUMMARY:Baby &amp; Toddler Time-Thursday July Session
UID:12039
DTSTAMP:20260423T033100Z
DTSTART:20250724T143000Z
DTEND:20250724T151500Z
LOCATION:Byron Public Library District, 100 S Washington St., Byron, IL 61
 010, United States
ROOM: Meeting Room
DESCRIPTION:This registration covers all 3 weeks of the July 2025 session.
  Baby &amp; Toddler Class will be on break during August and resume in Se
 ptember.
URL:https://www.byronlibrary.org/event/baby-toddler-time-thursday-july-ses
 sion-12039
END:VEVENT
END:VCALENDAR
