BEGIN:VCALENDAR
VERSION:2.0
PRODID:-//Library Market//iCal Export//EN
BEGIN:VEVENT
SUMMARY:August Program Registration Opens-7:00 AM
UID:12043
DTSTAMP:20260423T033500Z
DTSTART:20250715T050000Z
DTEND:20250715T050000Z
LOCATION:Byron Public Library District, 100 S Washington St., Byron, IL 61
 010, United States
ROOM: August Program Registration Opens-7:00 AM
DESCRIPTION:Registration for August programs opens today at 7:00 AM.Wonder
 ing about future programs? Programs open on the 15th at 7:00 AM on the mon
 th prior to the program. (August programs open July 15, September programs
  open August 15th, etc.)Want monthly programs sent to your email? Sign up 
 here: https://libraryaware.com/2484/Subscribers/Subscribe?optInPageId=d385
 0f00-7ac6-41f0-ab59-86b8498cccbf .  
URL:https://www.byronlibrary.org/event/august-program-registration-opens-7
 00-am-12043
END:VEVENT
END:VCALENDAR
