BEGIN:VCALENDAR
VERSION:2.0
PRODID:-//Library Market//iCal Export//EN
BEGIN:VEVENT
SUMMARY:The American Civil War
UID:12111
DTSTAMP:20260423T032400Z
DTSTART:20250903T180000Z
DTEND:20250903T193000Z
LOCATION:Byron Public Library District, 100 S Washington St., Byron, IL 61
 010, United States
ROOM: Classroom 1
DESCRIPTION:The American Civil War is said to be one of the bloodiest wars
  in American history. Step back in time to hear the gripping story of the 
 Civil War - uncovering the pivotal events that led to it, the fierce battl
 es that defined it, and the profound aftermath that reshaped a nation. Dis
 cover how this defining conflict claimed the lives of over 700,000 America
 n soldiers and forever changed the course of U.S. history.
URL:https://www.byronlibrary.org/event/american-civil-war-12111
END:VEVENT
END:VCALENDAR
