BEGIN:VCALENDAR
VERSION:2.0
PRODID:-//Library Market//iCal Export//EN
BEGIN:VEVENT
SUMMARY:Interactive Cards
UID:12113
DTSTAMP:20260423T032200Z
DTSTART:20250916T223000Z
DTEND:20250917T003000Z
LOCATION:Byron Public Library District, 100 S Washington St., Byron, IL 61
 010, United States
ROOM: Creative Studio
DESCRIPTION:Your recipients will love playing with the three interactive c
 ards you make! Each card can either pull, spin or open in a unique way. We
  will make a Happy Flappy card, a double slider card and a spinner card. 
URL:https://www.byronlibrary.org/event/interactive-cards-12113
END:VEVENT
END:VCALENDAR
