BEGIN:VCALENDAR
VERSION:2.0
PRODID:-//Library Market//iCal Export//EN
BEGIN:VEVENT
SUMMARY:Canning Ring Rag Flowers Kit
UID:12114
DTSTAMP:20260423T033600Z
DTSTART:20250919T140000Z
DTEND:20250919T220000Z
LOCATION:Byron Public Library District, 100 S Washington St., Byron, IL 61
 010, United States
ROOM: Canning Ring Rag Flowers Kit
DESCRIPTION:Add a touch of rustic elegance to your home with this DIY on t
 he Fly kit! Your kit will include supplied for 3 fabric flowers and a galv
 anized flower bucket to complete the look. This will make a one-of-a-kind 
 accent in your home or a great handmade gift for someone special. No regis
 tration required. Kits will be available on a first come, first serve basi
 s. 
URL:https://www.byronlibrary.org/event/canning-ring-rag-flowers-kit-12114
END:VEVENT
END:VCALENDAR
