BEGIN:VCALENDAR
VERSION:2.0
PRODID:-//Library Market//iCal Export//EN
BEGIN:VEVENT
SUMMARY:Full Moon Floral Shadow Box Kit
UID:12115
DTSTAMP:20260423T033700Z
DTSTART:20251010T140000Z
DTEND:20251010T220000Z
LOCATION:Byron Public Library District, 100 S Washington St., Byron, IL 61
 010, United States
ROOM: Full Moon Floral Shadow Box Kit
DESCRIPTION:Let&#039;s celebrate all things spooky with this DIY on the Fl
 y kit! Featuring a full moon, dried floral and some gothic embellishments,
  this unique project will soon become a treasured piece of your spooky dé
 cor. No registration required! Kits are available on a first come, first s
 erved basis.
URL:https://www.byronlibrary.org/event/full-moon-floral-shadow-box-kit-121
 15
END:VEVENT
END:VCALENDAR
