BEGIN:VCALENDAR
VERSION:2.0
PRODID:-//Library Market//iCal Export//EN
BEGIN:VEVENT
SUMMARY:September Program Registration Opens-7:00 AM
UID:12116
DTSTAMP:20260423T033200Z
DTSTART:20250815T050000Z
DTEND:20250815T050000Z
LOCATION:Byron Public Library District, 100 S Washington St., Byron, IL 61
 010, United States
ROOM: September Program Registration Opens-7:00 AM
DESCRIPTION:Registration for September programs opens today at 7:00 AM.Won
 dering about future programs? Programs open on the 15th at 7:00 AM on the 
 month prior to the program. (August programs open July 15, September progr
 ams open August 15th, etc.)Want monthly programs sent to your email? Sign 
 up here: https://libraryaware.com/2484/Subscribers/Subscribe?optInPageId=d
 3850f00-7ac6-41f0-ab59-86b8498cccbf .  
URL:https://www.byronlibrary.org/event/september-program-registration-open
 s-700-am-12116
END:VEVENT
END:VCALENDAR
