BEGIN:VCALENDAR
VERSION:2.0
PRODID:-//Library Market//iCal Export//EN
BEGIN:VEVENT
SUMMARY:PreK Fall Art Kit
UID:12118
DTSTAMP:20260423T033700Z
DTSTART:20250905T140000Z
DTEND:20250905T220000Z
LOCATION:Byron Public Library District, 100 S Washington St., Byron, IL 61
 010, United States
ROOM: PreK Fall Art Kit
DESCRIPTION:A fall themed art kit for toddlers and preschoolers. This kit 
 is for ages 2 years-preschool.
URL:https://www.byronlibrary.org/event/youth-take-home-kits-all-ages-12118
END:VEVENT
END:VCALENDAR
