BEGIN:VCALENDAR
VERSION:2.0
PRODID:-//Library Market//iCal Export//EN
BEGIN:VEVENT
SUMMARY:Halloween Banner Kit
UID:12119
DTSTAMP:20260423T015900Z
DTSTART:20251003T140000Z
DTEND:20251003T220000Z
LOCATION:Byron Public Library District, 100 S Washington St., Byron, IL 61
 010, United States
ROOM: Halloween Banner Kit
DESCRIPTION:Create a Halloween banner. For grades K-5th grade. Pick up beg
 ins: Friday, October 3.
URL:https://www.byronlibrary.org/event/youth-take-home-kits-all-ages-12119
END:VEVENT
END:VCALENDAR
