BEGIN:VCALENDAR
VERSION:2.0
PRODID:-//Library Market//iCal Export//EN
BEGIN:VEVENT
SUMMARY:Cardboard Candy Cottage Kit
UID:12120
DTSTAMP:20260423T001900Z
DTSTART:20251107T150000Z
DTEND:20251107T230000Z
LOCATION:Byron Public Library District, 100 S Washington St., Byron, IL 61
 010, United States
ROOM: Cardboard Candy Cottage Kit
DESCRIPTION:For 1st-5th graders : Create a cardboard cottage on a canvas. 
 Embellish with fun craft materials (including candy charms). 
URL:https://www.byronlibrary.org/event/youth-take-home-kits-all-ages-12120
END:VEVENT
END:VCALENDAR
