BEGIN:VCALENDAR
VERSION:2.0
PRODID:-//Library Market//iCal Export//EN
BEGIN:VEVENT
SUMMARY:Beginner Sewing Machine Class
UID:12918
DTSTAMP:20260423T033600Z
DTSTART:20250806T223000Z
DTEND:20250807T003000Z
LOCATION:Byron Public Library District, 100 S Washington St., Byron, IL 61
 010, United States
ROOM: Creative Studio
DESCRIPTION:
URL:https://www.byronlibrary.org/event/beginner-sewing-machine-class-12918
END:VEVENT
END:VCALENDAR
