BEGIN:VCALENDAR
VERSION:2.0
PRODID:-//Library Market//iCal Export//EN
BEGIN:VEVENT
SUMMARY:Handmade Journal - Japanese Stab Binding
UID:12919
DTSTAMP:20260423T033600Z
DTSTART:20250822T150000Z
DTEND:20250822T163000Z
LOCATION:Byron Public Library District, 100 S Washington St., Byron, IL 61
 010, United States
ROOM: Creative Studio
DESCRIPTION:Unleash your creativity in our handmade journal program. Assem
 ble and bind your own journal. Decorate your cover with assorted washi tap
 es. Go home with a personalized journal to use for writing, art, or giftin
 g! 
URL:https://www.byronlibrary.org/event/handmade-journal-japanese-stab-bind
 ing-12919
END:VEVENT
END:VCALENDAR
