BEGIN:VCALENDAR
VERSION:2.0
PRODID:-//Library Market//iCal Export//EN
BEGIN:VEVENT
SUMMARY:Alcohol Ink Cards
UID:13023
DTSTAMP:20260423T015900Z
DTSTART:20251013T173000Z
DTEND:20251013T193000Z
LOCATION:Byron Public Library District, 100 S Washington St., Byron, IL 61
 010, United States
ROOM: Creative Studio
DESCRIPTION:You will get to experiment with different ways to blend vibran
 t alcohol inks to create some stunning backgrounds for your cards. You&#03
 9;ll leave with 3 cards that are unique to you. 
URL:https://www.byronlibrary.org/event/alcohol-ink-cards-13023
END:VEVENT
END:VCALENDAR
