BEGIN:VCALENDAR
VERSION:2.0
PRODID:-//Library Market//iCal Export//EN
BEGIN:VEVENT
SUMMARY:Fall Picture Frame Kit
UID:13112
DTSTAMP:20260423T033200Z
DTSTART:20250905T140000Z
DTEND:20250905T220000Z
LOCATION:Byron Public Library District, 100 S Washington St., Byron, IL 61
 010, United States
ROOM: Fall Picture Frame Kit
DESCRIPTION:Create a fall themed picture frame. For K-5th grade. Pick up b
 egins: Friday, September 5.
URL:https://www.byronlibrary.org/event/fall-picture-frame-kit-13112
END:VEVENT
END:VCALENDAR
