BEGIN:VCALENDAR
VERSION:2.0
PRODID:-//Library Market//iCal Export//EN
BEGIN:VEVENT
SUMMARY:Lego Day
UID:13113
DTSTAMP:20260423T032200Z
DTSTART:20250917T204500Z
DTEND:20250917T213000Z
LOCATION:Byron Public Library District, 100 S Washington St., Byron, IL 61
 010, United States
ROOM: Activity Room
DESCRIPTION:Build LEGO and display in the library. For youth in K-5th grad
 e.
URL:https://www.byronlibrary.org/event/lego-day-13113
END:VEVENT
END:VCALENDAR
