BEGIN:VCALENDAR
VERSION:2.0
PRODID:-//Library Market//iCal Export//EN
BEGIN:VEVENT
SUMMARY:PreK Halloween Craft Kit
UID:13114
DTSTAMP:20260423T015900Z
DTSTART:20251003T140000Z
DTEND:20251003T220000Z
LOCATION:Byron Public Library District, 100 S Washington St., Byron, IL 61
 010, United States
ROOM: PreK Halloween Craft Kit
DESCRIPTION:Halloween art for ages 2 years-preschool. Pick up begins: Frid
 ay, October 3.
URL:https://www.byronlibrary.org/event/prek-halloween-craft-kit-13114
END:VEVENT
END:VCALENDAR
