BEGIN:VCALENDAR
VERSION:2.0
PRODID:-//Library Market//iCal Export//EN
BEGIN:VEVENT
SUMMARY:Hocus Pocus Bubbling Slime
UID:13116
DTSTAMP:20260423T015900Z
DTSTART:20251016T204500Z
DTEND:20251016T214500Z
LOCATION:Byron Public Library District, 100 S Washington St., Byron, IL 61
 010, United States
ROOM: Activity Room
DESCRIPTION:Create bubbling slime! This class is for 1st-5th grade only. Y
 outh attend alone. If your child needs extra support, please contact Julie
 .
URL:https://www.byronlibrary.org/event/hocus-pocus-bubbling-slime-13116
END:VEVENT
END:VCALENDAR
