BEGIN:VCALENDAR
VERSION:2.0
PRODID:-//Library Market//iCal Export//EN
BEGIN:VEVENT
SUMMARY:&quot;Is This Bus for Us?&quot; StoryWalk®-Heritage Farm
UID:13215
DTSTAMP:20260423T033400Z
DTSTART:20250701T050000Z
DTEND:20250821T050000Z
LOCATION:Heritage Farm Museum, 8059 N. River Road, Byron, IL 61010, United
  States
ROOM: Byron Forest Preserve: Heritage Farm
DESCRIPTION:Current book: &quot;Is This the Bus for Us?&quot; by Harriet Z
 iefert.  Leo and his sisters watch the various buses pass, some filled wi
 th farm animals, some filled sea creatures, as they wait for the right one
  to take them to the park. 
URL:https://www.byronlibrary.org/event/isthis-bus-us-storywalkr-heritage-f
 arm-13215
END:VEVENT
END:VCALENDAR
