BEGIN:VCALENDAR
VERSION:2.0
PRODID:-//Library Market//iCal Export//EN
BEGIN:VEVENT
SUMMARY:&quot;The Legend of Rock, Paper, Scissors&quot; StoryWalk®-Jarret
 t Prairie Center
UID:13216
DTSTAMP:20260423T033400Z
DTSTART:20250701T050000Z
DTEND:20250821T050000Z
LOCATION:Byron Forest Preserve Jarrett Prairie Center, 7993 North River Ro
 ad, Byron, IL 61010, United States
ROOM: Byron Forest Preserve: Indigo Trail StoryWalk
DESCRIPTION:Current book: &quot;The Legend of Rock, Paper, Scissors by Dre
 w Daywalt. From the Kingdom of the Backyard, Rock searches for an adversar
 y that might best him, meanwhile Paper and Scissors set off on their own q
 uests for competitors.
URL:https://www.byronlibrary.org/event/legend-rock-paper-scissors-storywal
 kr-jarrett-prairie-center-13216
END:VEVENT
END:VCALENDAR
