BEGIN:VCALENDAR
VERSION:2.0
PRODID:-//Library Market//iCal Export//EN
BEGIN:VEVENT
SUMMARY:December Program Registration Opens-7:00 AM
UID:13218
DTSTAMP:20260423T002000Z
DTSTART:20251115T060000Z
DTEND:20251115T060000Z
LOCATION:Byron Public Library District, 100 S Washington St., Byron, IL 61
 010, United States
ROOM: December Program Registration Opens-7:00 AM
DESCRIPTION:Registration for December programs opens today at 7:00 AM.Wond
 ering about future programs? Programs open on the 15th at 7:00 AM on the m
 onth prior to the program. (August programs open July 15, September progra
 ms open August 15th, etc.)Want monthly programs sent to your email? Sign u
 p here: https://libraryaware.com/2484/Subscribers/Subscribe?optInPageId=d3
 850f00-7ac6-41f0-ab59-86b8498cccbf .  
URL:https://www.byronlibrary.org/event/december-program-registration-opens
 -700-am-13218
END:VEVENT
END:VCALENDAR
