BEGIN:VCALENDAR
VERSION:2.0
PRODID:-//Library Market//iCal Export//EN
BEGIN:VEVENT
SUMMARY:January Program Registration Opens-7:00 AM
UID:13219
DTSTAMP:20260422T224900Z
DTSTART:20251215T060000Z
DTEND:20251215T060000Z
LOCATION:Byron Public Library District, 100 S Washington St., Byron, IL 61
 010, United States
ROOM: January Program Registration Opens-7:00 AM
DESCRIPTION:Registration for January programs opens today at 7:00 AM.Wonde
 ring about future programs? Programs open on the 15th at 7:00 AM on the mo
 nth prior to the program. (August programs open July 15, September program
 s open August 15th, etc.)Want monthly programs sent to your email? Sign up
  here: https://libraryaware.com/2484/Subscribers/Subscribe?optInPageId=d38
 50f00-7ac6-41f0-ab59-86b8498cccbf .  
URL:https://www.byronlibrary.org/event/january-program-registration-opens-
 700-am-13219
END:VEVENT
END:VCALENDAR
