BEGIN:VCALENDAR
VERSION:2.0
PRODID:-//Library Market//iCal Export//EN
BEGIN:VEVENT
SUMMARY:March Program Registration Opens-7:00 AM
UID:13221
DTSTAMP:20260422T194900Z
DTSTART:20260215T060000Z
DTEND:20260215T060000Z
LOCATION:Byron Public Library District, 100 S Washington St., Byron, IL 61
 010, United States
ROOM: March Program Registration Opens-7:00 AM
DESCRIPTION:Registration for March programs opens today at 7:00 AM.Wonderi
 ng about future programs? Programs open on the 15th at 7:00 AM on the mont
 h prior to the program. (August programs open July 15, September programs 
 open August 15th, etc.)Want monthly programs sent to your email? Sign up h
 ere: https://libraryaware.com/2484/Subscribers/Subscribe?optInPageId=d3850
 f00-7ac6-41f0-ab59-86b8498cccbf .  
URL:https://www.byronlibrary.org/event/march-program-registration-opens-70
 0-am-13221
END:VEVENT
END:VCALENDAR
