BEGIN:VCALENDAR
VERSION:2.0
PRODID:-//Library Market//iCal Export//EN
BEGIN:VEVENT
SUMMARY:May Program Registration Opens-7:00 AM
UID:13223
DTSTAMP:20260422T181700Z
DTSTART:20260415T050000Z
DTEND:20260415T050000Z
LOCATION:Byron Public Library District, 100 S Washington St., Byron, IL 61
 010, United States
ROOM: May Program Registration Opens-7:00 AM
DESCRIPTION:Registration for May programs opens today at 7:00 AM.Wondering
  about future programs? Programs open on the 15th at 7:00 AM on the month 
 prior to the program. (August programs open July 15, September programs op
 en August 15th, etc.)Want monthly programs sent to your email? Sign up her
 e: https://libraryaware.com/2484/Subscribers/Subscribe?optInPageId=d3850f0
 0-7ac6-41f0-ab59-86b8498cccbf .  
URL:https://www.byronlibrary.org/event/may-program-registration-opens-700-
 am-13223
END:VEVENT
END:VCALENDAR
