BEGIN:VCALENDAR
VERSION:2.0
PRODID:-//Library Market//iCal Export//EN
BEGIN:VEVENT
SUMMARY:Baby &amp; Toddler Time-Fall Session: Wednesdays
UID:13258
DTSTAMP:20260423T002000Z
DTSTART:20251105T153000Z
DTEND:20251105T161500Z
LOCATION:Byron Public Library District, 100 S Washington St., Byron, IL 61
 010, United States
ROOM: Meeting Room
DESCRIPTION:
URL:https://www.byronlibrary.org/event/baby-toddler-time-fall-session-wedn
 esdays-13258
END:VEVENT
END:VCALENDAR
