BEGIN:VCALENDAR
VERSION:2.0
PRODID:-//Library Market//iCal Export//EN
BEGIN:VEVENT
SUMMARY:Baby &amp; Toddler Time-Fall Session: Thursdays
UID:13262
DTSTAMP:20260423T015900Z
DTSTART:20250911T143000Z
DTEND:20250911T151500Z
LOCATION:Byron Public Library District, 100 S Washington St., Byron, IL 61
 010, United States
ROOM: Meeting Room
DESCRIPTION:
URL:https://www.byronlibrary.org/event/copy-baby-toddler-time-fall-session
 -thursdays-13262
END:VEVENT
END:VCALENDAR
