BEGIN:VCALENDAR
VERSION:2.0
PRODID:-//Library Market//iCal Export//EN
BEGIN:VEVENT
SUMMARY:Baby &amp; Toddler Time-Fall Session: Thursdays
UID:13271
DTSTAMP:20260423T002000Z
DTSTART:20251113T153000Z
DTEND:20251113T161500Z
LOCATION:Byron Public Library District, 100 S Washington St., Byron, IL 61
 010, United States
ROOM: Meeting Room
DESCRIPTION:
URL:https://www.byronlibrary.org/event/copy-baby-toddler-time-fall-session
 -thursdays-13271
END:VEVENT
END:VCALENDAR
