BEGIN:VCALENDAR
VERSION:2.0
PRODID:-//Library Market//iCal Export//EN
BEGIN:VEVENT
SUMMARY:Preschool Storytime-Fall Session: Wednesdays
UID:13278
DTSTAMP:20260423T015900Z
DTSTART:20251008T143000Z
DTEND:20251008T153000Z
LOCATION:Byron Public Library District, 100 S Washington St., Byron, IL 61
 010, United States
ROOM: Activity Room
DESCRIPTION:Registration covers the entire fall session, which runs Sept. 
 3-Nov. 19. Pending space, you can register at anytime, and you will be reg
 istered for all sessions going forward. Your child should be 3 years old b
 y September 1st in order to attend preschool storytime.
URL:https://www.byronlibrary.org/event/preschool-storytime-fall-session-we
 dnesdays-13278
END:VEVENT
END:VCALENDAR
