BEGIN:VCALENDAR
VERSION:2.0
PRODID:-//Library Market//iCal Export//EN
BEGIN:VEVENT
SUMMARY:Summer Teen Time
UID:13326
DTSTAMP:20260423T033700Z
DTSTART:20250805T190000Z
DTEND:20250805T210000Z
LOCATION:Byron Public Library District, 100 S Washington St., Byron, IL 61
 010, United States
ROOM: Teen Department &amp; Creative Studio
DESCRIPTION:Join our summer Teen Time in our teen department! Come hang ou
 t with friends, make crafts and play video games in a space that was creat
 ed just for YOU! Come anytime between 2-4 pm- no registration required.Aft
 er School Teen Time begins on Monday, September 8th.  
URL:https://www.byronlibrary.org/event/summer-teen-time-13326
END:VEVENT
END:VCALENDAR
