BEGIN:VCALENDAR
VERSION:2.0
PRODID:-//Library Market//iCal Export//EN
BEGIN:VEVENT
SUMMARY:Advanced Sewing Class for Teens
UID:13330
DTSTAMP:20260423T033100Z
DTSTART:20250804T203000Z
DTEND:20250804T220000Z
LOCATION:Byron Public Library District, 100 S Washington St., Byron, IL 61
 010, United States
ROOM: Classroom 2
DESCRIPTION:Make a pillow with a pocket for your favorite book! Both class
 es are the same, so sign up for only one class. Successful completion of 
 beginner sewing is required.
URL:https://www.byronlibrary.org/event/advanced-sewing-class-teens-13330
END:VEVENT
END:VCALENDAR
