BEGIN:VCALENDAR
VERSION:2.0
PRODID:-//Library Market//iCal Export//EN
BEGIN:VEVENT
SUMMARY:Dungeons and Dragons for Teens
UID:13331
DTSTAMP:20260423T032400Z
DTSTART:20250806T190000Z
DTEND:20250806T210000Z
LOCATION:Byron Public Library District, 100 S Washington St., Byron, IL 61
 010, United States
ROOM: Classroom 2
DESCRIPTION:Join our summer D&amp;D group, which is open to new and experi
 enced players! The two Dungeon Masters alternate weeks, so it would be bes
 t to pick one D&amp;D campaign and come every other week, so you stay with
  one DM and epic journey! D&amp;D will resume on September 10th.   
URL:https://www.byronlibrary.org/event/dungeons-and-dragons-teens-13331
END:VEVENT
END:VCALENDAR
