BEGIN:VCALENDAR
VERSION:2.0
PRODID:-//Library Market//iCal Export//EN
BEGIN:VEVENT
SUMMARY:Gaming Bus for Teens
UID:13333
DTSTAMP:20260423T033600Z
DTSTART:20250811T190000Z
DTEND:20250811T200000Z
LOCATION:Byron Public Library District, 100 S Washington St., Byron, IL 61
 010, United States
ROOM: Parking Lot
DESCRIPTION:Come celebrate the end of summer by joining your friends on th
 e MXG Gaming Bus, which will be parked in our library parking lot. The bus
  is equipped with state-of-the-art technology and has a large selection of
  games, gaming consoles and 8K gaming monitors. This event is only for stu
 dents who are entering 6th-12th grade in the fall.  You may only attend o
 ne session. Check out Mobile Extreme Gaming by clicking on the link. No g
 ames rated mature will be available. 
URL:https://www.byronlibrary.org/event/gaming-bus-teens-13333
END:VEVENT
END:VCALENDAR
