BEGIN:VCALENDAR
VERSION:2.0
PRODID:-//Library Market//iCal Export//EN
BEGIN:VEVENT
SUMMARY:Movie &amp; Ice Cream Matinee for Teens
UID:13334
DTSTAMP:20260423T050500Z
DTSTART:20250814T190000Z
DTEND:20250814T210000Z
LOCATION:Byron Public Library District, 100 S Washington St., Byron, IL 61
 010, United States
ROOM: Teen Department
DESCRIPTION:Make an ice cream sundae and kick back and watch the animated 
 movie Lilo &amp; Stitch with your friends! 
URL:https://www.byronlibrary.org/event/movie-ice-cream-matinee-teens-13334
END:VEVENT
END:VCALENDAR
