BEGIN:VCALENDAR
VERSION:2.0
PRODID:-//Library Market//iCal Export//EN
BEGIN:VEVENT
SUMMARY:Ogle County Dixie 6
UID:13460
DTSTAMP:20260423T015900Z
DTSTART:20251014T190000Z
DTEND:20251014T200000Z
LOCATION:Byron Public Library District, 100 S Washington St., Byron, IL 61
 010, United States
ROOM: Meeting Room
DESCRIPTION:Join us for a special afternoon of music and community at the 
 library! We&#039;re excited to welcome back Ogle County Dixie Six, a talen
 ted local band known for their Dixieland music, for a live performance. 
URL:https://www.byronlibrary.org/event/ogle-county-dixie-six-13460
END:VEVENT
END:VCALENDAR
