BEGIN:VCALENDAR
VERSION:2.0
PRODID:-//Library Market//iCal Export//EN
BEGIN:VEVENT
SUMMARY:Sewing - Tortilla Warmer
UID:13461
DTSTAMP:20260423T033100Z
DTSTART:20250912T150000Z
DTEND:20250912T163000Z
LOCATION:Byron Public Library District, 100 S Washington St., Byron, IL 61
 010, United States
ROOM: Creative Studio
DESCRIPTION:Join us for a fun and creative sewing workshop where you&#039;
 ll learn how to make your very own fabric tortilla warmer - a practical an
 d stylish addition to any kitchen! All materials supplied. Regardless of s
 ewing experience, enrollment in this class requires successful completion 
 of the Beginner Sewing Class at Byron Public Library. 
URL:https://www.byronlibrary.org/event/sewing-tortilla-warmer-13461
END:VEVENT
END:VCALENDAR
