BEGIN:VCALENDAR
VERSION:2.0
PRODID:-//Library Market//iCal Export//EN
BEGIN:VEVENT
SUMMARY:Sewing - Tortilla Warmer
UID:13462
DTSTAMP:20260423T033500Z
DTSTART:20250924T223000Z
DTEND:20250925T000000Z
LOCATION:Byron Public Library District, 100 S Washington St., Byron, IL 61
 010, United States
ROOM: Creative Studio
DESCRIPTION:Join us for a fun and creative sewing workshop where you&#039;
 ll learn how to make your very own fabric tortilla warmer - a practical an
 d stylish addition to any kitchen! All materials supplied. Regardless of s
 ewing experience, enrollment in this class requires successful completion 
 of the Beginner Sewing Class at Byron Public Library.
URL:https://www.byronlibrary.org/event/sewing-tortilla-warmer-13462
END:VEVENT
END:VCALENDAR
