BEGIN:VCALENDAR
VERSION:2.0
PRODID:-//Library Market//iCal Export//EN
BEGIN:VEVENT
SUMMARY:All-Day D&amp;D Extravaganza for Teens
UID:13775
DTSTAMP:20260422T210900Z
DTSTART:20260103T160000Z
DTEND:20260103T220000Z
LOCATION:Byron Public Library District, 100 S Washington St., Byron, IL 61
 010, United States
ROOM: Meeting Room
DESCRIPTION:Play an epic all-day (10 am- 4 pm) Dungeons &amp; Dragons game
 ! Multiple DM&#039;s will guide you through The Sunless Citadel D&amp;D ga
 me. A free pizza lunch will be provided!New and experienced players are we
 lcome. Pre-made character sheets will be available at the game. This adven
 ture is for 1st level characters. If you would like to make your own chara
 cter and bring it, you may do so -- please say so in the space below. Oth
 erwise, you will be provided with a character made for you. If you have an
  idea for what kind of character you&#039;d like to play, we can make it f
 or you. In the space below, provide as much detail as you can about the ty
 pe of character you&#039;d like (for example, you could say &quot;I&#039;d
  like to play an elf wizard named Wendrell who can create fire&quot; or &
 quot;I want to play a character like Conan the Barbarian, except they&#039
 ;re a gnome.&quot;), and we will do our best to accommodate you. If you h
 ave no preference, say so. 
URL:https://www.byronlibrary.org/event/all-day-dd-extravaganza-13775
END:VEVENT
END:VCALENDAR
