BEGIN:VCALENDAR
VERSION:2.0
PRODID:-//Library Market//iCal Export//EN
BEGIN:VEVENT
SUMMARY:Volunteens- Blessing Bags
UID:13897
DTSTAMP:20260423T033600Z
DTSTART:20250908T230000Z
DTEND:20250909T000000Z
LOCATION:Byron Public Library District, 100 S Washington St., Byron, IL 61
 010, United States
ROOM: Meeting Room
DESCRIPTION:Earn volunteer hours by helping assemble Blessing Bags for tho
 se in need. Each participant will go home with a complete bag to pass out.
  If a student brings items that can be used, they can earn an extra hour o
 f volunteer time, in addition to the one they will earn for attending. You
  are not required to bring in items to attend.Donation ideas: Please bring
  small items, such as non-perishable snacks (such as a box of granola bars
 ) or individually sized hygiene items (such as a small bag of items you wo
 uld get at a hotel or several new toothbrushes), to be used in the bags. N
 o cans or large heavy items, as everything needs to fit in a gallon ziploc
 k bag.
URL:https://www.byronlibrary.org/event/volunteens-blessing-bags-13897
END:VEVENT
END:VCALENDAR
