BEGIN:VCALENDAR
VERSION:2.0
PRODID:-//Library Market//iCal Export//EN
BEGIN:VEVENT
SUMMARY:Dungeons &amp; Dragons for Teens
UID:13904
DTSTAMP:20260423T033600Z
DTSTART:20250924T203000Z
DTEND:20250924T220000Z
LOCATION:Byron Public Library District, 100 S Washington St., Byron, IL 61
 010, United States
ROOM: Classroom 2
DESCRIPTION:Join our weekly after-school D&amp;D group, which is open to n
 ew and experienced players! The two Dungeon Masters alternate weeks, so it
  would be best to pick one D&amp;D campaign and come every other week, so 
 you stay with one DM and epic journey! Jacob- 9/10, 9/24, 10/8, 10/22Adam
 -  9/17, 10/1, 10/15, 10/29
URL:https://www.byronlibrary.org/event/dungeons-dragons-teens-13904
END:VEVENT
END:VCALENDAR
