BEGIN:VCALENDAR
VERSION:2.0
PRODID:-//Library Market//iCal Export//EN
BEGIN:VEVENT
SUMMARY:Will It Waffle for Teens
UID:13906
DTSTAMP:20260423T015900Z
DTSTART:20250930T230000Z
DTEND:20251001T003000Z
LOCATION:Byron Public Library District, 100 S Washington St., Byron, IL 61
 010, United States
ROOM: Meeting Room
DESCRIPTION:We will experiment with foods you wouldn&#039;t expect to cook
  in a waffle iron! Come hungry and be willing to experiment. *Food may co
 ntain nuts, milk, and other allergens, so please be aware of this if you h
 ave food allergies*
URL:https://www.byronlibrary.org/event/will-it-waffle-teens-13906
END:VEVENT
END:VCALENDAR
