BEGIN:VCALENDAR
VERSION:2.0
PRODID:-//Library Market//iCal Export//EN
BEGIN:VEVENT
SUMMARY:Murder Mystery for Teens
UID:13907
DTSTAMP:20260423T015900Z
DTSTART:20251024T230000Z
DTEND:20251025T010000Z
LOCATION:Byron Public Library District, 100 S Washington St., Byron, IL 61
 010, United States
ROOM: Meeting Room
DESCRIPTION:Set Sail for Disaster! Are you ready to solve a Murder Mystery
 ?! Join us for a deadly good time and a free pizza dinner. You will be ema
 iled your role in early October, and then you need to stop by the library 
 to pick up the instruction sheet for your character. Please come in costum
 e, based on your character sheet. This is an after-hours event. The progr
 am is reliant on every character to run smoothly, so prioritize attending 
 if you sign up 
URL:https://www.byronlibrary.org/event/murder-mystery-teens-13907
END:VEVENT
END:VCALENDAR
