BEGIN:VCALENDAR
VERSION:2.0
PRODID:-//Library Market//iCal Export//EN
BEGIN:VEVENT
SUMMARY:DIY Stacked Pumpkin Topiary
UID:13970
DTSTAMP:20260423T002000Z
DTSTART:20251103T233000Z
DTEND:20251104T013000Z
LOCATION:Byron Public Library District, 100 S Washington St., Byron, IL 61
 010, United States
ROOM: Creative Studio
DESCRIPTION:Join us as you create a stacked pumpkin topiary. This is a fun
  and easy fall craft that repurposes dryer vent tubing into a decorative p
 umpkin. 
URL:https://www.byronlibrary.org/event/stacked-pumpkin-craft-cathy-13970
END:VEVENT
END:VCALENDAR
